BEGIN:VCALENDAR
VERSION:2.0
PRODID:-//PyTorch - ECPv6.15.20//NONSGML v1.0//EN
CALSCALE:GREGORIAN
METHOD:PUBLISH
X-WR-CALNAME:PyTorch
X-ORIGINAL-URL:https://pytorch.org
X-WR-CALDESC:Events for PyTorch
REFRESH-INTERVAL;VALUE=DURATION:PT1H
X-Robots-Tag:noindex
X-PUBLISHED-TTL:PT1H
BEGIN:VTIMEZONE
TZID:America/Los_Angeles
BEGIN:DAYLIGHT
TZOFFSETFROM:-0800
TZOFFSETTO:-0700
TZNAME:PDT
DTSTART:20250309T100000
END:DAYLIGHT
BEGIN:STANDARD
TZOFFSETFROM:-0700
TZOFFSETTO:-0800
TZNAME:PST
DTSTART:20251102T090000
END:STANDARD
BEGIN:DAYLIGHT
TZOFFSETFROM:-0800
TZOFFSETTO:-0700
TZNAME:PDT
DTSTART:20260308T100000
END:DAYLIGHT
BEGIN:STANDARD
TZOFFSETFROM:-0700
TZOFFSETTO:-0800
TZNAME:PST
DTSTART:20261101T090000
END:STANDARD
BEGIN:DAYLIGHT
TZOFFSETFROM:-0800
TZOFFSETTO:-0700
TZNAME:PDT
DTSTART:20270314T100000
END:DAYLIGHT
BEGIN:STANDARD
TZOFFSETFROM:-0700
TZOFFSETTO:-0800
TZNAME:PST
DTSTART:20271107T090000
END:STANDARD
END:VTIMEZONE
BEGIN:VEVENT
DTSTART;TZID=America/Los_Angeles:20260425T080000
DTEND;TZID=America/Los_Angeles:20260426T170000
DTSTAMP:20260425T034309
CREATED:20260323T233102Z
LAST-MODIFIED:20260402T221427Z
UID:10000137-1777104000-1777222800@pytorch.org
SUMMARY:OpenEnv AI Hackathon
DESCRIPTION:Introducing India’s first OpenEnv AI Hackathon\, hosted by Meta in collaboration with Hugging Face and PyTorch. This initiative brings together developers across the country to build what powers the next generation of AI\, not just use it. \nWhat’s in it for developers:\n💰 $30\,000 prize pool \nParticipants will build reinforcement learning environments using OpenEnv\, Meta’s open-source RL framework\, contributing directly to how intelligent agents are trained. \nThis is a unique opportunity to showcase your work to Meta’s top AI teams and collaborate with some of the best minds in the ecosystem. \nKey details:\n• Round 1: March 25 – April 8 (online)\n• Finale: April 25–26 (48-hour in-person hackathon in Bangalore)\n• No prior RL experience required- learning resources will be provided \nRegister here: https://scalerschooloftech.com/3PdhDPn \nRegistrations close April 3
URL:https://pytorch.org/event/openenv-ai-hackathon/
CATEGORIES:Community-hosted
ATTACH;FMTTYPE=image/png:https://pytorch.org/wp-content/uploads/2026/03/Untitled-design-3.png
END:VEVENT
END:VCALENDAR